BEGIN:VCALENDAR
VERSION:2.0
PRODID:icalendar-ruby
CALSCALE:GREGORIAN
METHOD:PUBLISH
BEGIN:VEVENT
DTSTAMP:20260419T165832Z
UID:13-1488068@methowvalleyumc.org
DTSTART:20260906T170000Z
DTEND:20260906T180000Z
CLASS:PUBLIC
CREATED:20260419T063516
DESCRIPTION:All are welcome in worship at MVUMC. Visiting us? Find out what
  to expect.
LAST-MODIFIED:20260419T063516
LOCATION:
SUMMARY:Sunday Worship
URL;VALUE=URI:https://www.methowvalleyumc.org/events/sunday-worship/2026-09
 -06
ATTACH;FILENAME=smallgroups-14.jpg;FMTTYPE=image/jpeg:https://dq5pwpg1q8ru0
 .cloudfront.net/2026/01/03/01/46/27/2954a912-c343-4458-8a7c-2d789446582a/s
 mallgroups-14.jpg
END:VEVENT
END:VCALENDAR
