BEGIN:VCALENDAR
VERSION:2.0
PRODID:icalendar-ruby
CALSCALE:GREGORIAN
METHOD:PUBLISH
BEGIN:VEVENT
DTSTAMP:20260420T000717Z
UID:9-1488619@methowvalleyumc.org
DTSTART:20260925T200000Z
DTEND:20260925T210000Z
CLASS:PUBLIC
CREATED:20260419T135936
DESCRIPTION:Join us as we cook a meal to share with one another and folks i
 n our community. 
LAST-MODIFIED:20260419T135936
LOCATION:
SUMMARY:Cooking and Community
URL;VALUE=URI:https://www.methowvalleyumc.org/events/cooking-and-community/
 2026-09-25
ATTACH;FILENAME=Hgxf.jpg;FMTTYPE=image/jpeg:https://dq5pwpg1q8ru0.cloudfron
 t.net/2025/10/29/03/21/10/10094b5b-1795-4396-a57f-bcdc7928746f/Hgxf.jpg
END:VEVENT
END:VCALENDAR
